BEGIN:VCALENDAR
VERSION:2.0
PRODID:-//Capital Storytelling - ECPv6.15.20//NONSGML v1.0//EN
CALSCALE:GREGORIAN
METHOD:PUBLISH
X-WR-CALNAME:Capital Storytelling
X-ORIGINAL-URL:https://capitalstorytelling.com
X-WR-CALDESC:Events for Capital Storytelling
REFRESH-INTERVAL;VALUE=DURATION:PT1H
X-Robots-Tag:noindex
X-PUBLISHED-TTL:PT1H
BEGIN:VTIMEZONE
TZID:America/Los_Angeles
BEGIN:DAYLIGHT
TZOFFSETFROM:-0800
TZOFFSETTO:-0700
TZNAME:PDT
DTSTART:20250309T100000
END:DAYLIGHT
BEGIN:STANDARD
TZOFFSETFROM:-0700
TZOFFSETTO:-0800
TZNAME:PST
DTSTART:20251102T090000
END:STANDARD
BEGIN:DAYLIGHT
TZOFFSETFROM:-0800
TZOFFSETTO:-0700
TZNAME:PDT
DTSTART:20260308T100000
END:DAYLIGHT
BEGIN:STANDARD
TZOFFSETFROM:-0700
TZOFFSETTO:-0800
TZNAME:PST
DTSTART:20261101T090000
END:STANDARD
BEGIN:DAYLIGHT
TZOFFSETFROM:-0800
TZOFFSETTO:-0700
TZNAME:PDT
DTSTART:20270314T100000
END:DAYLIGHT
BEGIN:STANDARD
TZOFFSETFROM:-0700
TZOFFSETTO:-0800
TZNAME:PST
DTSTART:20271107T090000
END:STANDARD
END:VTIMEZONE
BEGIN:VEVENT
DTSTART;TZID=America/Los_Angeles:20260308T130000
DTEND;TZID=America/Los_Angeles:20260308T150000
DTSTAMP:20260421T141332
CREATED:20251209T211037Z
LAST-MODIFIED:20260105T164102Z
UID:26443-1772974800-1772982000@capitalstorytelling.com
SUMMARY:Comedic Storytelling 101 (Virtual) - Spring 2026
DESCRIPTION:This 4-week virtual class is designed for all experience levels to help you turn your personal experiences into engaging\, laugh-out-loud stories. Through interactive learning\, fun storytelling games\, and hands-on practice\, you’ll discover the deeper connections between humor and healing while building a supportive community of fellow storytellers. We’ll explore different comedic techniques in storytelling as well as structure and components of all good stories. We’ll also explore ways to generate new story ideas through playful exercises that pull from knowledge across disciplines including improv and poetry. And we’ll do it all while laughing together. Join us and explore how to feel collective joy and share stories that connect\, entertain\, and have a good dose of humor in them. The class is offered via Zoom. Limited to 12 participants. The class will be offered on Sundays at 1:00 – 3:00 PM PT / 4:00 – 6:00 PM ET (note your timezone!)  \nENROLL\n\nShare this:\n				Share on X (Opens in new window)\n				X\n			\n				Share on Facebook (Opens in new window)\n				Facebook
URL:https://capitalstorytelling.com/event/comedic-storytelling-101-virtual-copy/2026-03-08/
ATTACH;FMTTYPE=image/jpeg:https://capitalstorytelling.com/wp-content/uploads/2023/12/cropped-DSC01786-1.jpg
END:VEVENT
BEGIN:VEVENT
DTSTART;TZID=America/Los_Angeles:20260310T180000
DTEND;TZID=America/Los_Angeles:20260310T200000
DTSTAMP:20260421T141332
CREATED:20230412T171203Z
LAST-MODIFIED:20240701T142916Z
UID:19881-1773165600-1773172800@capitalstorytelling.com
SUMMARY:Do Tell! (in-person storytelling open-mic)
DESCRIPTION:  \nCome join us at LogOff Brewing for our monthly in-person true storytelling open mic event\, Do Tell! At the event\, you’ll hear personal stories told by regular folks just like you. In fact\, we invite you and anyone else who is interested\, to put their name in our hat for a chance to tell us all a story. You can find the guidelines below. Come out to just listen or come tell a story! Food and beverages are for sell at the venue. \nSecond Tuesday of each month (check our calendar for dates!) \nLogOff Brewing\n3054 Sunrise Blvd Suite J  \nRancho Cordova\, CA 95742 \n  \nGuidelines for Your “Do Tell” Open Mic Story \n\n\n\nTell us a TRUE story about something you did or experienced:  Fiction is wonderful\, but we want to hear about events from your life and things that you have personally experienced! Lectures\, rants\, listicles\, guided meditations\, singalongs\, sermons\, and elevator pitches ALL have their place\, but this isn’t it.\nTry to keep it under 8 minutes:  We’ll give you a gentle one minute warning at 7 minutes; please wrap it up by 8 min so that there’s time for everyone else’s stories.\nLeave your notes and phones behind:  We find that the best personal stories are often those that are told without notes. So please don’t read your story to us – just tell it to us! (And we won’t judge you if you mix up the timeline or forget a part!)\nBe respectful:  We want everyone to feel welcome and respected\, so please do not use stereotypes\, slurs\, racial epithets\, or derogatory language about any group.  Also\, please do not use accents and dialects from cultures that are not your own.  If you are unsure about something in your story\, ask the host.\nAim for an R rating (or less):  We know y’all have some crazy stories (and we wanna hear ‘em)\, but let’s try to keep them R-rated or under.  And please read the room; if there are kids present consider giving a content warning to parents.  Sometimes opting for euphemisms instead of coarse language will do the trick…  And finally\, please give a content warning before your story if you think it could cause anyone fear or anxiety. \n\n\n\nTo put your name in the hat\, show up a little early and find the host! The host will then draw names from the hat and those people will be invited on stage to share their 8-mins-or-less story with the crowd! \nStill have questions? Email John Aubert at johnaubert@capitalstorytelling.com! \n  \nShare this:\n				Share on X (Opens in new window)\n				X\n			\n				Share on Facebook (Opens in new window)\n				Facebook
URL:https://capitalstorytelling.com/event/do-tell-in-person-storytelling-open-mic/2026-03-10/
ATTACH;FMTTYPE=image/jpeg:https://capitalstorytelling.com/wp-content/uploads/2023/04/DoTell_Calendar.jpg
END:VEVENT
BEGIN:VEVENT
DTSTART;TZID=America/Los_Angeles:20260315T130000
DTEND;TZID=America/Los_Angeles:20260315T150000
DTSTAMP:20260421T141332
CREATED:20251209T211037Z
LAST-MODIFIED:20260105T164102Z
UID:26446-1773579600-1773586800@capitalstorytelling.com
SUMMARY:Comedic Storytelling 101 (Virtual) - Spring 2026
DESCRIPTION:This 4-week virtual class is designed for all experience levels to help you turn your personal experiences into engaging\, laugh-out-loud stories. Through interactive learning\, fun storytelling games\, and hands-on practice\, you’ll discover the deeper connections between humor and healing while building a supportive community of fellow storytellers. We’ll explore different comedic techniques in storytelling as well as structure and components of all good stories. We’ll also explore ways to generate new story ideas through playful exercises that pull from knowledge across disciplines including improv and poetry. And we’ll do it all while laughing together. Join us and explore how to feel collective joy and share stories that connect\, entertain\, and have a good dose of humor in them. The class is offered via Zoom. Limited to 12 participants. The class will be offered on Sundays at 1:00 – 3:00 PM PT / 4:00 – 6:00 PM ET (note your timezone!)  \nENROLL\n\nShare this:\n				Share on X (Opens in new window)\n				X\n			\n				Share on Facebook (Opens in new window)\n				Facebook
URL:https://capitalstorytelling.com/event/comedic-storytelling-101-virtual-copy/2026-03-15/
ATTACH;FMTTYPE=image/jpeg:https://capitalstorytelling.com/wp-content/uploads/2023/12/cropped-DSC01786-1.jpg
END:VEVENT
BEGIN:VEVENT
DTSTART;TZID=America/Los_Angeles:20260321T140000
DTEND;TZID=America/Los_Angeles:20260321T153000
DTSTAMP:20260421T141332
CREATED:20221209T161333Z
LAST-MODIFIED:20221209T161333Z
UID:20035-1774101600-1774107000@capitalstorytelling.com
SUMMARY:Sacramento Storytellers Guild Program (Monthly Hybrid Event!)
DESCRIPTION:The Sacramento Storytellers Guild hosts a monthly storytelling program with 6 storytellers and 2 poets each event! The event is hybrid: in person at the Sacramento Poetry Center with a Zoom audience as well! For more info\, visit their website: https://sacramentostorytellersguild.org/ \nZoom for each month is here: https://zoom.us/j/91354356933\nMeeting ID: 913 5435 6933 \nIf you’d like to sign up to share a story or poem\, email storyteller@sacramentostorytellersguild.org \nShare this:\n				Share on X (Opens in new window)\n				X\n			\n				Share on Facebook (Opens in new window)\n				Facebook
URL:https://capitalstorytelling.com/event/sacramento-storytellers-guild-program-monthly-hybrid-event/2026-03-21/
END:VEVENT
BEGIN:VEVENT
DTSTART;TZID=America/Los_Angeles:20260322T130000
DTEND;TZID=America/Los_Angeles:20260322T150000
DTSTAMP:20260421T141332
CREATED:20251209T211037Z
LAST-MODIFIED:20260105T164103Z
UID:26447-1774184400-1774191600@capitalstorytelling.com
SUMMARY:Comedic Storytelling 101 (Virtual) - Spring 2026
DESCRIPTION:This 4-week virtual class is designed for all experience levels to help you turn your personal experiences into engaging\, laugh-out-loud stories. Through interactive learning\, fun storytelling games\, and hands-on practice\, you’ll discover the deeper connections between humor and healing while building a supportive community of fellow storytellers. We’ll explore different comedic techniques in storytelling as well as structure and components of all good stories. We’ll also explore ways to generate new story ideas through playful exercises that pull from knowledge across disciplines including improv and poetry. And we’ll do it all while laughing together. Join us and explore how to feel collective joy and share stories that connect\, entertain\, and have a good dose of humor in them. The class is offered via Zoom. Limited to 12 participants. The class will be offered on Sundays at 1:00 – 3:00 PM PT / 4:00 – 6:00 PM ET (note your timezone!)  \nENROLL\n\nShare this:\n				Share on X (Opens in new window)\n				X\n			\n				Share on Facebook (Opens in new window)\n				Facebook
URL:https://capitalstorytelling.com/event/comedic-storytelling-101-virtual-copy/2026-03-22/
ATTACH;FMTTYPE=image/jpeg:https://capitalstorytelling.com/wp-content/uploads/2023/12/cropped-DSC01786-1.jpg
END:VEVENT
BEGIN:VEVENT
DTSTART;TZID=America/Los_Angeles:20260329T130000
DTEND;TZID=America/Los_Angeles:20260329T150000
DTSTAMP:20260421T141332
CREATED:20251209T211037Z
LAST-MODIFIED:20260105T164103Z
UID:26448-1774789200-1774796400@capitalstorytelling.com
SUMMARY:Comedic Storytelling 101 (Virtual) - Spring 2026
DESCRIPTION:This 4-week virtual class is designed for all experience levels to help you turn your personal experiences into engaging\, laugh-out-loud stories. Through interactive learning\, fun storytelling games\, and hands-on practice\, you’ll discover the deeper connections between humor and healing while building a supportive community of fellow storytellers. We’ll explore different comedic techniques in storytelling as well as structure and components of all good stories. We’ll also explore ways to generate new story ideas through playful exercises that pull from knowledge across disciplines including improv and poetry. And we’ll do it all while laughing together. Join us and explore how to feel collective joy and share stories that connect\, entertain\, and have a good dose of humor in them. The class is offered via Zoom. Limited to 12 participants. The class will be offered on Sundays at 1:00 – 3:00 PM PT / 4:00 – 6:00 PM ET (note your timezone!)  \nENROLL\n\nShare this:\n				Share on X (Opens in new window)\n				X\n			\n				Share on Facebook (Opens in new window)\n				Facebook
URL:https://capitalstorytelling.com/event/comedic-storytelling-101-virtual-copy/2026-03-29/
ATTACH;FMTTYPE=image/jpeg:https://capitalstorytelling.com/wp-content/uploads/2023/12/cropped-DSC01786-1.jpg
END:VEVENT
END:VCALENDAR